BEGIN:VCALENDAR
VERSION:2.0
PRODID:-//Bailey Books - ECPv6.15.20//NONSGML v1.0//EN
CALSCALE:GREGORIAN
METHOD:PUBLISH
X-ORIGINAL-URL:https://baileybookman.com
X-WR-CALDESC:Events for Bailey Books
REFRESH-INTERVAL;VALUE=DURATION:PT1H
X-Robots-Tag:noindex
X-PUBLISHED-TTL:PT1H
BEGIN:VTIMEZONE
TZID:America/Edmonton
BEGIN:DAYLIGHT
TZOFFSETFROM:-0700
TZOFFSETTO:-0600
TZNAME:MDT
DTSTART:20240310T090000
END:DAYLIGHT
BEGIN:STANDARD
TZOFFSETFROM:-0600
TZOFFSETTO:-0700
TZNAME:MST
DTSTART:20241103T080000
END:STANDARD
BEGIN:DAYLIGHT
TZOFFSETFROM:-0700
TZOFFSETTO:-0600
TZNAME:MDT
DTSTART:20250309T090000
END:DAYLIGHT
BEGIN:STANDARD
TZOFFSETFROM:-0600
TZOFFSETTO:-0700
TZNAME:MST
DTSTART:20251102T080000
END:STANDARD
BEGIN:DAYLIGHT
TZOFFSETFROM:-0700
TZOFFSETTO:-0600
TZNAME:MDT
DTSTART:20260308T090000
END:DAYLIGHT
BEGIN:STANDARD
TZOFFSETFROM:-0600
TZOFFSETTO:-0700
TZNAME:MST
DTSTART:20261101T080000
END:STANDARD
END:VTIMEZONE
BEGIN:VEVENT
DTSTART;TZID=America/Edmonton:20251014T183000
DTEND;TZID=America/Edmonton:20251014T193000
DTSTAMP:20260422T160015
CREATED:20250628T224441Z
LAST-MODIFIED:20250628T224528Z
UID:509-1760466600-1760470200@baileybookman.com
SUMMARY:Romantasy Book Club - When the Moon Hatched by Sarah A Parker
DESCRIPTION:  \nLooking for a St. Albert book club that celebrates romance and fantasy? Join us for our Romantasy Book Club! We’re a friendly\, welcoming group of book lovers who enjoy losing ourselves the world of kickass FMC’s\, magical drama and book boyfriends. Whether you’re a long-time fan of the genre or just looking to meet new people\, we’d love to have you.  Some of our members are voracious readers and will have plenty of great book recs to get you started on your Romantasy reading journey. \nThis month we are reading When The Moon Hatched by Sarah A Parker \n“The Creators did not expect their beloved dragons to sail skyward upon their end. To curl into balls just beyond gravity’s grip\, littering the sky with tombstones. With moons.\nThey certainly did not expect them to fall. \nAs a valued Elding Blade of the rebellion group Fíur du Ath\, Raeve’s job is to kill. To complete orders and never get caught. When a renowned bounty hunter is employed by The Crown to capture a member of the Ath\, Raeve’s world is turned upside down. Blood spills\, hearts break\, and Raeve finds herself at the mercy of the Guild of Nobles—a group of dual-beaded elementals who intend to turn her into a political statement. Only death will set her free. \nCrushed beneath a mourning weight\, Kaan Vaegor took the head of a king and donned his melted crown. Now on a tireless quest to assuage the never-ebbing ache in his chest\, his hunt for a moonshard lures him into the belly of Gore’s notorious prison where he stumbles upon something that rips apart his perception of reality. A shackled miracle with eyes full of rage and blood on her hands. \nThe echo of the past sings louder than the Creators themselves\, and even Raeve can’t ignore the truths blaring at her from a warmer\, happier time.\nHowever.\nThere’s more to this song than meets the eye\, and some truths …\nThey’re too poisonous to swallow.” \nWe meet from 6:30 to 7:30 and you are welcome to bring any beverages or snacks you would like.  We can’t wait to meet you! \nPrevious books we’ve covered:From Blood and Ash by Jennifer L ArmentroutThe Seven Year Slip by Ashley PostenThe Book of Azrael by Amber V NicoleThe Very Secret Society of Irregular Witches by Sangu MandannaFragments of a Fallen Star by Viano OniomohA Ruinous Fate by Kaylie SmithA Reckless Oath by Kaylie SmithPowerless & Powerful by Lauren RobertsA Court This Cruel and Lovely by Stacia StarkHouse of Earth and Blood by Sarah J MaasHouse of Sky and Breath by Sarah J MaasHouse of Flame and Shadow by Sarah J MaasThe Familiar by Leigh BardugoOne Dark Window by Rachel GilligTwo Twisted Crowns by Rachel GilligPhantasma by Kaylie Smith\nEnchantra by Kaylie Smith\nBride by Ali Hazelwood\nOn Wings of Ash and Dust by Brittany Wang
URL:https://baileybookman.com/event/romantasy-book-club-when-the-moon-hatched-by-sarah-a-parker/
LOCATION:Bailey Books\, 29 B Rowland Crescent\, St. Albert\, AB - Alberta\, T8N 4B2\, Canada
CATEGORIES:Book Club
ORGANIZER;CN="Lisa Bailey":MAILTO:baileybooks17@gmail.com
END:VEVENT
END:VCALENDAR