BEGIN:VCALENDAR
VERSION:2.0
PRODID:-//Bailey Books - ECPv6.15.20//NONSGML v1.0//EN
CALSCALE:GREGORIAN
METHOD:PUBLISH
X-WR-CALNAME:Bailey Books
X-ORIGINAL-URL:https://baileybookman.com
X-WR-CALDESC:Events for Bailey Books
REFRESH-INTERVAL;VALUE=DURATION:PT1H
X-Robots-Tag:noindex
X-PUBLISHED-TTL:PT1H
BEGIN:VTIMEZONE
TZID:America/Edmonton
BEGIN:DAYLIGHT
TZOFFSETFROM:-0700
TZOFFSETTO:-0600
TZNAME:MDT
DTSTART:20240310T090000
END:DAYLIGHT
BEGIN:STANDARD
TZOFFSETFROM:-0600
TZOFFSETTO:-0700
TZNAME:MST
DTSTART:20241103T080000
END:STANDARD
BEGIN:DAYLIGHT
TZOFFSETFROM:-0700
TZOFFSETTO:-0600
TZNAME:MDT
DTSTART:20250309T090000
END:DAYLIGHT
BEGIN:STANDARD
TZOFFSETFROM:-0600
TZOFFSETTO:-0700
TZNAME:MST
DTSTART:20251102T080000
END:STANDARD
BEGIN:DAYLIGHT
TZOFFSETFROM:-0700
TZOFFSETTO:-0600
TZNAME:MDT
DTSTART:20260308T090000
END:DAYLIGHT
BEGIN:STANDARD
TZOFFSETFROM:-0600
TZOFFSETTO:-0700
TZNAME:MST
DTSTART:20261101T080000
END:STANDARD
END:VTIMEZONE
BEGIN:VEVENT
DTSTART;TZID=America/Edmonton:20250614T140000
DTEND;TZID=America/Edmonton:20250614T150000
DTSTAMP:20260422T233751
CREATED:20250517T201101Z
LAST-MODIFIED:20250517T201101Z
UID:479-1749909600-1749913200@baileybookman.com
SUMMARY:Craig Baird Book Signing
DESCRIPTION:Join us in hosting author\, historian and podcaster Craig Baird for a signing of his first book “Canada’s Main Street” which tells the unique story of the trans Canada highway. We have had the pleasure of getting to know Craig as a customer over the past couple years. Naturally\, our Canadiana section made him a fast fan of our store. We’re thrilled to be adding his book to our shelves.\n\nCraig Baird is the creator and host of Canadian History Ehx\, a podcast that delves into Canada’s history to tell the story of the good\, the bad and the weird of our history. Currently the top Canadian history podcast in Canada\, he can also be heard across Canada each weekend talking about Canada’s history on the Corus Radio Network.
URL:https://baileybookman.com/event/craig-baird-book-signing/
LOCATION:Bailey Books\, 29 B Rowland Crescent\, St. Albert\, AB - Alberta\, T8N 4B2\, Canada
ORGANIZER;CN="Lisa Bailey":MAILTO:baileybooks17@gmail.com
END:VEVENT
END:VCALENDAR