BEGIN:VCALENDAR
VERSION:2.0
PRODID:-//Bailey Books - ECPv6.15.20//NONSGML v1.0//EN
CALSCALE:GREGORIAN
METHOD:PUBLISH
X-ORIGINAL-URL:https://baileybookman.com
X-WR-CALDESC:Events for Bailey Books
REFRESH-INTERVAL;VALUE=DURATION:PT1H
X-Robots-Tag:noindex
X-PUBLISHED-TTL:PT1H
BEGIN:VTIMEZONE
TZID:America/Edmonton
BEGIN:DAYLIGHT
TZOFFSETFROM:-0700
TZOFFSETTO:-0600
TZNAME:MDT
DTSTART:20240310T090000
END:DAYLIGHT
BEGIN:STANDARD
TZOFFSETFROM:-0600
TZOFFSETTO:-0700
TZNAME:MST
DTSTART:20241103T080000
END:STANDARD
BEGIN:DAYLIGHT
TZOFFSETFROM:-0700
TZOFFSETTO:-0600
TZNAME:MDT
DTSTART:20250309T090000
END:DAYLIGHT
BEGIN:STANDARD
TZOFFSETFROM:-0600
TZOFFSETTO:-0700
TZNAME:MST
DTSTART:20251102T080000
END:STANDARD
BEGIN:DAYLIGHT
TZOFFSETFROM:-0700
TZOFFSETTO:-0600
TZNAME:MDT
DTSTART:20260308T090000
END:DAYLIGHT
BEGIN:STANDARD
TZOFFSETFROM:-0600
TZOFFSETTO:-0700
TZNAME:MST
DTSTART:20261101T080000
END:STANDARD
END:VTIMEZONE
BEGIN:VEVENT
DTSTART;TZID=America/Edmonton:20250823T140000
DTEND;TZID=America/Edmonton:20250823T150000
DTSTAMP:20260422T185702
CREATED:20250806T232731Z
LAST-MODIFIED:20250806T232731Z
UID:515-1755957600-1755961200@baileybookman.com
SUMMARY:Terrie Shaw - Author Event
DESCRIPTION:Join us on August 23 at 2:00 PM for a special event with local author Terrie Shaw\, creator of Garden Journey: Stories\, Sketches\, and Recipes. Terrie Shaw blends art\, nature\, and storytelling into a unique garden-to-table experience. Her book explores the seasons through watercolors\, pen-and-ink sketches\, and personal stories. It also features delicious\, homegrown recipes inspired by her garden. If you love journaling\, gardening\, or cooking from scratch\, this event is for you. Meet Terrie Shaw\, hear about her creative process\, and grab a signed copy of Garden Journey!
URL:https://baileybookman.com/event/terrie-shaw-author-event/
LOCATION:Bailey Books\, 29 B Rowland Crescent\, St. Albert\, AB - Alberta\, T8N 4B2\, Canada
CATEGORIES:author event
ORGANIZER;CN="Lisa Bailey":MAILTO:baileybooks17@gmail.com
END:VEVENT
END:VCALENDAR