BEGIN:VCALENDAR
VERSION:2.0
PRODID:-//Bailey Books - ECPv6.15.20//NONSGML v1.0//EN
CALSCALE:GREGORIAN
METHOD:PUBLISH
X-WR-CALNAME:Bailey Books
X-ORIGINAL-URL:https://baileybookman.com
X-WR-CALDESC:Events for Bailey Books
REFRESH-INTERVAL;VALUE=DURATION:PT1H
X-Robots-Tag:noindex
X-PUBLISHED-TTL:PT1H
BEGIN:VTIMEZONE
TZID:America/Edmonton
BEGIN:DAYLIGHT
TZOFFSETFROM:-0700
TZOFFSETTO:-0600
TZNAME:MDT
DTSTART:20230312T090000
END:DAYLIGHT
BEGIN:STANDARD
TZOFFSETFROM:-0600
TZOFFSETTO:-0700
TZNAME:MST
DTSTART:20231105T080000
END:STANDARD
BEGIN:DAYLIGHT
TZOFFSETFROM:-0700
TZOFFSETTO:-0600
TZNAME:MDT
DTSTART:20240310T090000
END:DAYLIGHT
BEGIN:STANDARD
TZOFFSETFROM:-0600
TZOFFSETTO:-0700
TZNAME:MST
DTSTART:20241103T080000
END:STANDARD
BEGIN:DAYLIGHT
TZOFFSETFROM:-0700
TZOFFSETTO:-0600
TZNAME:MDT
DTSTART:20250309T090000
END:DAYLIGHT
BEGIN:STANDARD
TZOFFSETFROM:-0600
TZOFFSETTO:-0700
TZNAME:MST
DTSTART:20251102T080000
END:STANDARD
END:VTIMEZONE
BEGIN:VEVENT
DTSTART;TZID=America/Edmonton:20241123T120000
DTEND;TZID=America/Edmonton:20241123T160000
DTSTAMP:20260422T234621
CREATED:20241018T205843Z
LAST-MODIFIED:20241018T205843Z
UID:442-1732363200-1732377600@baileybookman.com
SUMMARY:Author Signing Double Feature!
DESCRIPTION:We continue our celebration of St Albert authors on November 23 for an exciting double-feature with Monique MacDonald and Carla Howatt from 12:00 to 2:00 as they launch Lucky Ducky\, the highly anticipated follow-up to their hit novel Fowl Play. This hilarious whodunnit series\, set in Edmonton\, follows the adventures of Maddy Whitman in a mystery full of humor and suspense. Stick around for a reading\, Q&A\, and to meet the authors! \n  \n \nThen\, from 2:00 to 4:00\, immerse yourself in the fantastical world of St. Albert author Cordelia Kelly\, as she debuts The Sibyl and the Thief\, a captivating new fantasy novel. We had the pleasure of hosting Cordelia in the spring with The Well of Souls\, and we can’t wait to see what new adventures await. Don’t miss this unique opportunity to support local talent and explore two fantastic genres in one day!
URL:https://baileybookman.com/event/author-signing-double-feature/
LOCATION:Bailey Books\, 29 B Rowland Crescent\, St. Albert\, AB - Alberta\, T8N 4B2\, Canada
ORGANIZER;CN="Lisa Bailey":MAILTO:baileybooks17@gmail.com
END:VEVENT
BEGIN:VEVENT
DTSTART;TZID=America/Edmonton:20241112T183000
DTEND;TZID=America/Edmonton:20241112T193000
DTSTAMP:20260422T234621
CREATED:20241018T211541Z
LAST-MODIFIED:20241018T211541Z
UID:445-1731436200-1731439800@baileybookman.com
SUMMARY:Romantasy Book Club - Powerless & Powerful
DESCRIPTION:This month\, the Romantasy Book Club at Bailey Books is discussing Powerless and Powerful by Lauren Roberts\, an exciting series  that’s perfect for fans of romance and fantasy. These novels introduce readers to a world of magic\, rebellion\, and heart-wrenching choices. At the center is Paedyn\, a fierce heroine born without magic in a kingdom where the powerless are oppressed by those who wield it. As Paedyn fights to survive in Powerless and faces impossible decisions in Powerful\, the stakes rise with dark secrets\, unexpected alliances\, and plenty of swoon-worthy romance. \nOur Romantasy Book Club is the perfect place to explore this series! We’re a friendly\, welcoming group of girls who love all things romantasy—if it’s got epic love stories\, magic\, or anything in between\, we’re here for it! Whether you’re a long-time fan of the genre or just starting to explore the magical worlds of romantasy\, we’d love to have you join us. Our discussions are lively\, thoughtful\, and always full of laughs as we break down plot twists\, gush over characters\, and dive into the intense emotions of these stories. \nNew members are always welcome\, so if you’re curious about joining a fun group of fellow romantasy lovers\, now’s the perfect time to jump in. Whether you’ve read every romantasy book under the sun or are just getting started\, you’ll fit right in. If you’re new to the genre\, this is the best place to get some great readings recommendations from like minded people.  Don’t miss our next meeting at Bailey Books\, where we’ll delve into the Powerless and Powerful series and connect over our shared love of romance and adventure. Come hang out with us\, make new friends\, and dive deep into some seriously captivating books!  We can’t wait to meet you and hear who your favorite book boyfriend is!
URL:https://baileybookman.com/event/romantasy-book-club-powerless-powerful/
LOCATION:Bailey Books\, 29 B Rowland Crescent\, St. Albert\, AB - Alberta\, T8N 4B2\, Canada
CATEGORIES:Book Club
ORGANIZER;CN="Lisa Bailey":MAILTO:baileybooks17@gmail.com
END:VEVENT
BEGIN:VEVENT
DTSTART;TZID=America/Edmonton:20241105T183000
DTEND;TZID=America/Edmonton:20241105T193000
DTSTAMP:20260422T234621
CREATED:20240921T222725Z
LAST-MODIFIED:20240921T222725Z
UID:436-1730831400-1730835000@baileybookman.com
SUMMARY:Stephen King Book Club - The Gunslinger/The Drawing of the Three
DESCRIPTION:It’s finally time for the Stephen King Book Club to embark on our long-awaited journey to the Tower! Over the next few months\, we’ll be diving deep into Stephen King’s magnum opus\, The Dark Tower series. Whether you’ve traveled these paths before or you’re meeting Roland\, Susannah\, Eddie\, Jake and Oi for the very first time\, we’re excited to experience this epic saga together. \nFor those unfamiliar\, The Dark Tower is a genre-defying series that blends fantasy\, horror\, and western themes into an unforgettable narrative about fate\, friendship\, and the quest for the elusive Dark Tower. As we journey through King’s rich\, complex world\, we’ll encounter iconic villains like the Man in Black\, grapple with mind-bending realities\, and explore the threads that weave this story into so many of King’s other works. \nAs some of you may know\, The Dark Tower is the epicenter of the Stephen King multiverse.  There is many different opinions on what is considered “required reading” when reading the Dark Tower series.  While we strongly feel you can enjoy this series even as your first King book\, if you want the full experience you may want to read ‘The Stand’ and ‘The Eyes of the Dragon’ before tackling the first two DT books.  This list is what we will be using as our guide throughout this journey. \nSo grab your copy of The Gunslinger\, and let’s begin this epic quest together. Whether you’re a long-time Constant Reader or just dipping your toes into King’s world\, there’s no better way to experience this series than with the Stephen King book club by your side. Ka has brought us here\, and the Tower awaits!
URL:https://baileybookman.com/event/stephen-king-book-club-the-gunslinger-the-drawing-of-the-three/
LOCATION:Bailey Books\, 29 B Rowland Crescent\, St. Albert\, AB - Alberta\, T8N 4B2\, Canada
CATEGORIES:Book Club
ORGANIZER;CN="Lisa Bailey":MAILTO:baileybooks17@gmail.com
END:VEVENT
BEGIN:VEVENT
DTSTART;TZID=America/Edmonton:20241102T130000
DTEND;TZID=America/Edmonton:20241102T150000
DTSTAMP:20260422T234621
CREATED:20240921T175515Z
LAST-MODIFIED:20240921T175912Z
UID:430-1730552400-1730559600@baileybookman.com
SUMMARY:Author Signing - AJ Eversley
DESCRIPTION:Join us at Bailey Books for an exciting opportunity to meet the talented author AJ Eversley in person! Known for her action-packed\, dystopian series Watcher\, AJ Eversley has captured the hearts of readers with her unique blend of gripping adventure\, fast-paced storytelling\, and unforgettable characters. This special event will feature a live reading and book signing\, making it the perfect chance to dive deeper into the imaginative worlds she has created. \nOn November 2\, AJ Eversley will be at Bailey Books to read from her most recent works\, offering insights into her creative process and the inspirations behind her thrilling stories. Whether you’re a fan of dystopian fiction\, love stories with strong protagonists\, or simply enjoy books that keep you on the edge of your seat\, this event promises to be a memorable experience. \nAttendees will not only get the chance to hear AJ Eversley share her thoughts on writing and storytelling\, but they’ll also be able to ask questions\, meet the author face-to-face\, and get their books signed. Whether you’re already a devoted fan of AJ Eversley’s work or new to her exciting novels\, this is a wonderful opportunity to discover why her books have gained such a dedicated following. \nMake sure to bring your favorite Watcher book\, or pick up a new one at Bailey Books\, and get it signed by AJ Eversley herself! Don’t miss out on this unique opportunity to meet one of today’s most engaging dystopian authors and connect with fellow readers.
URL:https://baileybookman.com/event/author-signing-aj-eversley/
LOCATION:Bailey Books\, 29 B Rowland Crescent\, St. Albert\, AB - Alberta\, T8N 4B2\, Canada
CATEGORIES:author event
ORGANIZER;CN="Lisa Bailey":MAILTO:baileybooks17@gmail.com
END:VEVENT
BEGIN:VEVENT
DTSTART;TZID=America/Edmonton:20241029T183000
DTEND;TZID=America/Edmonton:20241029T193000
DTSTAMP:20260422T234621
CREATED:20240921T173209Z
LAST-MODIFIED:20240921T173234Z
UID:428-1730226600-1730230200@baileybookman.com
SUMMARY:Low Pressure Book Club
DESCRIPTION:Looking for a relaxed\, no-pressure way to share your love of books? Join our Low Pressure Book Chat at Bailey Books! No assigned reading—just bring a book you’ve enjoyed or want to talk about. It’s the perfect space to meet fellow book lovers and chat about any book that sparks joy\, curiosity\, or conversation!
URL:https://baileybookman.com/event/low-pressure-book-club/
LOCATION:Bailey Books\, 29 B Rowland Crescent\, St. Albert\, AB - Alberta\, T8N 4B2\, Canada
CATEGORIES:Book Club
ORGANIZER;CN="Lisa Bailey":MAILTO:baileybooks17@gmail.com
END:VEVENT
BEGIN:VEVENT
DTSTART;TZID=America/Edmonton:20241019T130000
DTEND;TZID=America/Edmonton:20241019T150000
DTSTAMP:20260422T234621
CREATED:20240912T004404Z
LAST-MODIFIED:20240921T175804Z
UID:358-1729342800-1729350000@baileybookman.com
SUMMARY:Author Signing - Donna Milward
DESCRIPTION:Join us at Bailey Books for an unforgettable event with local author Donna Milward! Known for her unique blend of reincarnation\, mythology\, and the paranormal\, Donna has captivated readers with her novels Chasing Monsters and Elaina’s Fate. Her work seamlessly merges the real world with fantastical elements\, creating gripping\, thought-provoking stories that linger long after the last page. \nOn Oct 19\, Donna Milward will be at Bailey Books for a special reading and signing. She’ll share insights into her writing process\, her passion for mythology\, and how she crafted her own myth\, ‘The Sacred Truth\,’ which serves as the lore behind Thoeba and future novels. Whether you’re a fan of speculative fiction\, enjoy paranormal adventures\, or love mythological tales with a twist\, this event is a great chance to dive deeper into her world. \nAttendees will get to meet Donna Milward\, ask questions about her writing journey\, and have their books signed. If you haven’t yet explored her novels\, this is the perfect time to discover an author whose work challenges and entertains in equal measure. \nBring your copy of Chasing Monsters or Elaina’s Fate\, or pick one up at the store\, and get it signed by Donna Milward! Whether you’re a longtime fan or new to her books\, this event offers a unique chance to connect with a talented author. Mark your calendars for Oct 19 and join us for an day of myth\, magic\, and the paranormal at Bailey Books!
URL:https://baileybookman.com/event/author-signing-donna-milward/
LOCATION:Bailey Books\, 29 B Rowland Crescent\, St. Albert\, AB - Alberta\, T8N 4B2\, Canada
CATEGORIES:author event
ORGANIZER;CN="Lisa Bailey":MAILTO:baileybooks17@gmail.com
END:VEVENT
BEGIN:VEVENT
DTSTART;TZID=America/Edmonton:20241008T183000
DTEND;TZID=America/Edmonton:20241008T193000
DTSTAMP:20260422T234621
CREATED:20240913T233555Z
LAST-MODIFIED:20240919T233219Z
UID:369-1728412200-1728415800@baileybookman.com
SUMMARY:Romantasy Book Club - A Reckless Oath by Kaylie Smith
DESCRIPTION:Join us for our next Romantasy Book Club meeting as we discuss A Reckless Oath\, the thrilling follow-up to A Ruinous Fate by Kaylie Smith. If you’re into magical worlds\, swoon-worthy characters\, and heart-pounding adventure\, this series has it all! Whether you’ve been with us from the start or are just jumping in\, we’d love to have you. Grab your book\, bring your thoughts\, and let’s talk all things romantasy! \nOur romantasy book club is a friendly group of gals who love discussing our favorite book boyfriends and giving recommendations to each other.  New people are always welcome and no sign up is required.  Just bring yourself!
URL:https://baileybookman.com/event/romantasy-book-club-a-reckless-oath-by-kaylie-smith/
LOCATION:Bailey Books\, 29 B Rowland Crescent\, St. Albert\, AB - Alberta\, T8N 4B2\, Canada
ORGANIZER;CN="Lisa Bailey":MAILTO:baileybooks17@gmail.com
END:VEVENT
BEGIN:VEVENT
DTSTART;TZID=America/Edmonton:20241001T183000
DTEND;TZID=America/Edmonton:20241001T193000
DTSTAMP:20260422T234621
CREATED:20240919T233130Z
LAST-MODIFIED:20240919T233130Z
UID:425-1727807400-1727811000@baileybookman.com
SUMMARY:Stephen King Book Club - Different Seasons
DESCRIPTION:Join our Stephen King Book Club this month as we discuss Different Seasons! This collection of four novellas showcases King’s storytelling mastery beyond the horror genre\, featuring iconic tales like Rita Hayworth and Shawshank Redemption and The Body (inspiration for Stand By Me). Whether you’re a long-time King fan or new to his work\, our book club is the perfect place to discuss the suspense\, drama\, and unforgettable characters. Don’t miss out on the chance to connect with fellow readers\, share insights\, and explore the darker side of fiction in this month’s thrilling book club discussion!
URL:https://baileybookman.com/event/stephen-king-book-club-different-seasons/
LOCATION:Bailey Books\, 29 B Rowland Crescent\, St. Albert\, AB - Alberta\, T8N 4B2\, Canada
ORGANIZER;CN="Lisa Bailey":MAILTO:baileybooks17@gmail.com
END:VEVENT
BEGIN:VEVENT
DTSTART;TZID=America/Edmonton:20240925T063000
DTEND;TZID=America/Edmonton:20240925T193000
DTSTAMP:20260422T234621
CREATED:20240913T223431Z
LAST-MODIFIED:20240921T173244Z
UID:363-1727245800-1727292600@baileybookman.com
SUMMARY:Low Pressure Book Chat
DESCRIPTION:Looking for a relaxed\, no-pressure way to share your love of books? Join our Low Pressure Book Chat at Bailey Books! No assigned reading—just bring a book you’ve enjoyed or want to talk about. It’s the perfect space to meet fellow book lovers and chat about any book that sparks joy\, curiosity\, or conversation!
URL:https://baileybookman.com/event/low-pressure-book-chat/
LOCATION:Bailey Books\, 29 B Rowland Crescent\, St. Albert\, AB - Alberta\, T8N 4B2\, Canada
CATEGORIES:Book Club
ORGANIZER;CN="Lisa Bailey":MAILTO:baileybooks17@gmail.com
END:VEVENT
BEGIN:VEVENT
DTSTART;TZID=America/Edmonton:20240921T110000
DTEND;TZID=America/Edmonton:20240921T170000
DTSTAMP:20260422T234621
CREATED:20240913T232509Z
LAST-MODIFIED:20240913T232509Z
UID:366-1726916400-1726938000@baileybookman.com
SUMMARY:20% OFF SALE! St Albert Food Bank Drive
DESCRIPTION:Food bank workers organizing donations\nWe’re helping the food bank and giving you a 20% off sale! Over 1000 families use the St Albert food bank every month and they need our help.  We’re accepting donations all month but on Sept 21 if you bring a food or cash donation ($10+) we will give you 20% off your entire purchase.  That’s right – you get to do some good for the community and treat yourself to a new book (or two…or ten) \n 
URL:https://baileybookman.com/event/20-off-sale-st-albert-food-bank-drive/
LOCATION:Bailey Books\, 29 B Rowland Crescent\, St. Albert\, AB - Alberta\, T8N 4B2\, Canada
ORGANIZER;CN="Lisa Bailey":MAILTO:baileybooks17@gmail.com
END:VEVENT
END:VCALENDAR