BEGIN:VCALENDAR
VERSION:2.0
PRODID:-//Bailey Books - ECPv6.15.20//NONSGML v1.0//EN
CALSCALE:GREGORIAN
METHOD:PUBLISH
X-WR-CALNAME:Bailey Books
X-ORIGINAL-URL:https://baileybookman.com
X-WR-CALDESC:Events for Bailey Books
REFRESH-INTERVAL;VALUE=DURATION:PT1H
X-Robots-Tag:noindex
X-PUBLISHED-TTL:PT1H
BEGIN:VTIMEZONE
TZID:America/Edmonton
BEGIN:DAYLIGHT
TZOFFSETFROM:-0700
TZOFFSETTO:-0600
TZNAME:MDT
DTSTART:20240310T090000
END:DAYLIGHT
BEGIN:STANDARD
TZOFFSETFROM:-0600
TZOFFSETTO:-0700
TZNAME:MST
DTSTART:20241103T080000
END:STANDARD
BEGIN:DAYLIGHT
TZOFFSETFROM:-0700
TZOFFSETTO:-0600
TZNAME:MDT
DTSTART:20250309T090000
END:DAYLIGHT
BEGIN:STANDARD
TZOFFSETFROM:-0600
TZOFFSETTO:-0700
TZNAME:MST
DTSTART:20251102T080000
END:STANDARD
BEGIN:DAYLIGHT
TZOFFSETFROM:-0700
TZOFFSETTO:-0600
TZNAME:MDT
DTSTART:20260308T090000
END:DAYLIGHT
BEGIN:STANDARD
TZOFFSETFROM:-0600
TZOFFSETTO:-0700
TZNAME:MST
DTSTART:20261101T080000
END:STANDARD
END:VTIMEZONE
BEGIN:VEVENT
DTSTART;TZID=America/Edmonton:20250816T100000
DTEND;TZID=America/Edmonton:20250816T170000
DTSTAMP:20260422T190702
CREATED:20250806T232118Z
LAST-MODIFIED:20250806T232118Z
UID:513-1755338400-1755363600@baileybookman.com
SUMMARY:Softcover Book Sale
DESCRIPTION:We’re clearing the shelves to make space for new arrivals\, which means it’s sale time! On Saturday\, August 16\, all softcover books in the store will be 30% off.  Most are already priced around $10\, so this is a great opportunity to snag some bargains. We’ve also got a few collectible softcovers tucked in the mix\, so if you’re a treasure hunter\, now’s your moment.  We’re open 10:00 to 5:00 so you have lots of time to come browse our beautiful softcover books!
URL:https://baileybookman.com/event/softcover-book-sale/
LOCATION:Bailey Books\, 29 B Rowland Crescent\, St. Albert\, AB - Alberta\, T8N 4B2\, Canada
CATEGORIES:Sale
ORGANIZER;CN="Lisa Bailey":MAILTO:baileybooks17@gmail.com
END:VEVENT
END:VCALENDAR