BEGIN:VCALENDAR
VERSION:2.0
PRODID:-//Bailey Books - ECPv6.15.20//NONSGML v1.0//EN
CALSCALE:GREGORIAN
METHOD:PUBLISH
X-WR-CALNAME:Bailey Books
X-ORIGINAL-URL:https://baileybookman.com
X-WR-CALDESC:Events for Bailey Books
REFRESH-INTERVAL;VALUE=DURATION:PT1H
X-Robots-Tag:noindex
X-PUBLISHED-TTL:PT1H
BEGIN:VTIMEZONE
TZID:America/Edmonton
BEGIN:DAYLIGHT
TZOFFSETFROM:-0700
TZOFFSETTO:-0600
TZNAME:MDT
DTSTART:20240310T090000
END:DAYLIGHT
BEGIN:STANDARD
TZOFFSETFROM:-0600
TZOFFSETTO:-0700
TZNAME:MST
DTSTART:20241103T080000
END:STANDARD
BEGIN:DAYLIGHT
TZOFFSETFROM:-0700
TZOFFSETTO:-0600
TZNAME:MDT
DTSTART:20250309T090000
END:DAYLIGHT
BEGIN:STANDARD
TZOFFSETFROM:-0600
TZOFFSETTO:-0700
TZNAME:MST
DTSTART:20251102T080000
END:STANDARD
BEGIN:DAYLIGHT
TZOFFSETFROM:-0700
TZOFFSETTO:-0600
TZNAME:MDT
DTSTART:20260308T090000
END:DAYLIGHT
BEGIN:STANDARD
TZOFFSETFROM:-0600
TZOFFSETTO:-0700
TZNAME:MST
DTSTART:20261101T080000
END:STANDARD
END:VTIMEZONE
BEGIN:VEVENT
DTSTART;TZID=America/Edmonton:20250812T183000
DTEND;TZID=America/Edmonton:20250812T193000
DTSTAMP:20260422T162247
CREATED:20250628T220016Z
LAST-MODIFIED:20250628T220016Z
UID:498-1755023400-1755027000@baileybookman.com
SUMMARY:Romantasy Book Club - Bride by Ali Hazelwood
DESCRIPTION:Looking for a St. Albert book club that celebrates romance and fantasy? Join us for our Romantasy Book Club! We’re a friendly\, welcoming group of book lovers who enjoy losing ourselves the world of kickass FMC’s\, magical drama and book boyfriends. Whether you’re a long-time fan of the genre or just looking to meet new people\, we’d love to have you.  Some of our members are voracious readers and will have plenty of great book recs to get you started on your Romantasy reading journey. \nThis month we are reading the smash hit “Bride” by Ali Hazelwood. \n“Misery Lark\, the only daughter of the most powerful Vampyre councilman of the Southwest\, is an outcast—again. Her days of living in anonymity among the Humans are over: she has been called upon to uphold a historic peacekeeping alliance between the Vampyres and their mortal enemies\, the Weres\, and she sees little choice but to surrender herself in the exchange—again… \nWeres are ruthless and unpredictable\, and their Alpha\, Lowe Moreland\, is no exception. He rules his pack with absolute authority\, but not without justice. And\, unlike the Vampyre Council\, not without feeling. It’s clear from the way he tracks Misery’s every movement that he doesn’t trust her. If only he knew how right he was…. \nBecause Misery has her own reasons to agree to this marriage of convenience\, reasons that have nothing to do with politics or alliances\, and everything to do with the only thing she’s ever cared about. And she is willing to do whatever it takes to get back what’s hers\, even if it means a life alone in Were territory…alone with the wolf.” \nWe meet from 6:30 to 7:30 and you are welcome to bring any beverages or snacks you would like.  We can’t wait to meet you! \nPrevious books we’ve covered:From Blood and Ash by Jennifer L ArmentroutThe Seven Year Slip by Ashley PostenThe Book of Azrael by Amber V NicoleThe Very Secret Society of Irregular Witches by Sangu MandannaFragments of a Fallen Star by Viano OniomohA Ruinous Fate by Kaylie SmithA Reckless Oath by Kaylie SmithPowerless & Powerful by Lauren RobertsA Court This Cruel and Lovely by Stacia StarkHouse of Earth and Blood by Sarah J MaasHouse of Sky and Breath by Sarah J MaasHouse of Flame and Shadow by Sarah J MaasThe Familiar by Leigh BardugoOne Dark Window by Rachel GilligTwo Twisted Crowns by Rachel GilligPhantasma by Kaylie Smith\nEnchantra by Kaylie Smith
URL:https://baileybookman.com/event/romantasy-book-club-bride-by-ali-hazelwood/
LOCATION:Bailey Books\, 29 B Rowland Crescent\, St. Albert\, AB - Alberta\, T8N 4B2\, Canada
CATEGORIES:Book Club
ORGANIZER;CN="Lisa Bailey":MAILTO:baileybooks17@gmail.com
END:VEVENT
END:VCALENDAR