BEGIN:VCALENDAR
VERSION:2.0
PRODID:-//Bailey Books - ECPv6.15.20//NONSGML v1.0//EN
CALSCALE:GREGORIAN
METHOD:PUBLISH
X-WR-CALNAME:Bailey Books
X-ORIGINAL-URL:https://baileybookman.com
X-WR-CALDESC:Events for Bailey Books
REFRESH-INTERVAL;VALUE=DURATION:PT1H
X-Robots-Tag:noindex
X-PUBLISHED-TTL:PT1H
BEGIN:VTIMEZONE
TZID:America/Edmonton
BEGIN:DAYLIGHT
TZOFFSETFROM:-0700
TZOFFSETTO:-0600
TZNAME:MDT
DTSTART:20230312T090000
END:DAYLIGHT
BEGIN:STANDARD
TZOFFSETFROM:-0600
TZOFFSETTO:-0700
TZNAME:MST
DTSTART:20231105T080000
END:STANDARD
BEGIN:DAYLIGHT
TZOFFSETFROM:-0700
TZOFFSETTO:-0600
TZNAME:MDT
DTSTART:20240310T090000
END:DAYLIGHT
BEGIN:STANDARD
TZOFFSETFROM:-0600
TZOFFSETTO:-0700
TZNAME:MST
DTSTART:20241103T080000
END:STANDARD
BEGIN:DAYLIGHT
TZOFFSETFROM:-0700
TZOFFSETTO:-0600
TZNAME:MDT
DTSTART:20250309T090000
END:DAYLIGHT
BEGIN:STANDARD
TZOFFSETFROM:-0600
TZOFFSETTO:-0700
TZNAME:MST
DTSTART:20251102T080000
END:STANDARD
END:VTIMEZONE
BEGIN:VEVENT
DTSTART;TZID=America/Edmonton:20241210T183000
DTEND;TZID=America/Edmonton:20241210T193000
DTSTAMP:20260423T043500
CREATED:20241129T001702Z
LAST-MODIFIED:20241129T001702Z
UID:452-1733855400-1733859000@baileybookman.com
SUMMARY:A Court This Cruel and Lovely - Romantasy Book Club
DESCRIPTION:Looking for a St. Albert book club that celebrates romance and fantasy? Join us for our Romantasy Book Club! We’re a friendly\, welcoming group of book lovers who enjoy losing ourselves the world of kickass FMC’s\, fae drama and book boyfriends. Whether you’re a long-time fan of the genre or just looking to meet new people\, we’d love to have you.  Some of our members are voracious readers and will have plenty of great book recs to get you started on your Romantasy reading journey. \nThis month\, we’re reading A Court This Cruel and Lovely by Stacia Stark. It’s the perfect choice for fans of swoon-worthy romance\, high-stakes adventure\, and magical intrigue. \nNew members are always welcome! We always appreciate if you RSVP on Facebook to let us know you’re coming\, but if you decide last minute\, feel free to drop in. Come for the great conversation and stay for the cozy vibes. \nThis Months Book\nIn A Court This Cruel and Lovely\, Stacia Stark weaves a tale of forbidden magic\, cunning bargains\, and dangerous alliances. The story follows a fierce and determined heroine who must navigate a perilous world of fae courts and betrayals. With each twist\, the stakes rise\, leaving readers breathless for more. It’s a thrilling mix of romance\, danger\, and the kind of magic that lingers in your heart long after you turn the last page. \nIf you’re looking for a St. Albert book club that dives into enchanting stories\, this is the group for you. Bring your thoughts\, your love of books\, and maybe a cozy drink. See you at Bailey Books! \nTitles we have previously discussed:\nFrom Blood and Ash by Jennifer L ArmentroutThe Seven Year Slip by Ashley PostenThe Book of Azrael by Amber V NicoleThe Very Secret Society of Irregular Witches by Sangu MandannaFragments of a Fallen Star by Viano OniomohA Ruinous Fate by Kaylie SmithA Reckless Oath by Kaylie SmithPowerless & Powerful by Lauren Roberts
URL:https://baileybookman.com/event/a-court-this-cruel-and-lovely-romantasy-book-club/
LOCATION:Bailey Books\, 29 B Rowland Crescent\, St. Albert\, AB - Alberta\, T8N 4B2\, Canada
CATEGORIES:Book Club
ORGANIZER;CN="Lisa Bailey":MAILTO:baileybooks17@gmail.com
END:VEVENT
END:VCALENDAR