BEGIN:VCALENDAR
VERSION:2.0
PRODID:-//Bailey Books - ECPv6.15.20//NONSGML v1.0//EN
CALSCALE:GREGORIAN
METHOD:PUBLISH
X-WR-CALNAME:Bailey Books
X-ORIGINAL-URL:https://baileybookman.com
X-WR-CALDESC:Events for Bailey Books
REFRESH-INTERVAL;VALUE=DURATION:PT1H
X-Robots-Tag:noindex
X-PUBLISHED-TTL:PT1H
BEGIN:VTIMEZONE
TZID:America/Edmonton
BEGIN:DAYLIGHT
TZOFFSETFROM:-0700
TZOFFSETTO:-0600
TZNAME:MDT
DTSTART:20240310T090000
END:DAYLIGHT
BEGIN:STANDARD
TZOFFSETFROM:-0600
TZOFFSETTO:-0700
TZNAME:MST
DTSTART:20241103T080000
END:STANDARD
BEGIN:DAYLIGHT
TZOFFSETFROM:-0700
TZOFFSETTO:-0600
TZNAME:MDT
DTSTART:20250309T090000
END:DAYLIGHT
BEGIN:STANDARD
TZOFFSETFROM:-0600
TZOFFSETTO:-0700
TZNAME:MST
DTSTART:20251102T080000
END:STANDARD
BEGIN:DAYLIGHT
TZOFFSETFROM:-0700
TZOFFSETTO:-0600
TZNAME:MDT
DTSTART:20260308T090000
END:DAYLIGHT
BEGIN:STANDARD
TZOFFSETFROM:-0600
TZOFFSETTO:-0700
TZNAME:MST
DTSTART:20261101T080000
END:STANDARD
END:VTIMEZONE
BEGIN:VEVENT
DTSTART;TZID=America/Edmonton:20251028T183000
DTEND;TZID=America/Edmonton:20251028T193000
DTSTAMP:20260422T232942
CREATED:20251011T211515Z
LAST-MODIFIED:20251011T211515Z
UID:540-1761676200-1761679800@baileybookman.com
SUMMARY:Low Pressure Book Club
DESCRIPTION:Low Pressure book club is a casual book club that’s perfect for anyone who loves books and wants to connect with other book lovers\, but can’t commit to a monthly read. Unlike traditional book clubs\, there’s no assigned reading here. Instead\, we come together to discuss what each of us has been reading\, share recommendations\, or just chat about literature and media in general. \nWe often do a “show and tell\,” where members bring in cool\, interesting\, or unique books to share with the group. Whether it’s a rare find or an old favorite\, we love seeing what everyone brings and hearing why they’re passionate about it.  There’s no need to worry about finishing a specific book\, we’re here to listen to you talk about whatever book you want! \nNew members are always welcome! If you’re looking for a laid-back way to connect with others who share your love of books\, join us.  We’d love to hear about what you’re reading and share in the joy of discovering new books together!  We meet at 6:30 on the last Tuesday of the month.  Seating is on a first come\, first serve basis and please feel free to bring a snack or beverage if you’d like.
URL:https://baileybookman.com/event/low-pressure-book-club-5/
LOCATION:Bailey Books\, 29 B Rowland Crescent\, St. Albert\, AB - Alberta\, T8N 4B2\, Canada
ORGANIZER;CN="Lisa Bailey":MAILTO:baileybooks17@gmail.com
END:VEVENT
END:VCALENDAR