BEGIN:VCALENDAR
VERSION:2.0
PRODID:-//Bailey Books - ECPv6.15.20//NONSGML v1.0//EN
CALSCALE:GREGORIAN
METHOD:PUBLISH
X-WR-CALNAME:Bailey Books
X-ORIGINAL-URL:https://baileybookman.com
X-WR-CALDESC:Events for Bailey Books
REFRESH-INTERVAL;VALUE=DURATION:PT1H
X-Robots-Tag:noindex
X-PUBLISHED-TTL:PT1H
BEGIN:VTIMEZONE
TZID:America/Edmonton
BEGIN:DAYLIGHT
TZOFFSETFROM:-0700
TZOFFSETTO:-0600
TZNAME:MDT
DTSTART:20240310T090000
END:DAYLIGHT
BEGIN:STANDARD
TZOFFSETFROM:-0600
TZOFFSETTO:-0700
TZNAME:MST
DTSTART:20241103T080000
END:STANDARD
BEGIN:DAYLIGHT
TZOFFSETFROM:-0700
TZOFFSETTO:-0600
TZNAME:MDT
DTSTART:20250309T090000
END:DAYLIGHT
BEGIN:STANDARD
TZOFFSETFROM:-0600
TZOFFSETTO:-0700
TZNAME:MST
DTSTART:20251102T080000
END:STANDARD
BEGIN:DAYLIGHT
TZOFFSETFROM:-0700
TZOFFSETTO:-0600
TZNAME:MDT
DTSTART:20260308T090000
END:DAYLIGHT
BEGIN:STANDARD
TZOFFSETFROM:-0600
TZOFFSETTO:-0700
TZNAME:MST
DTSTART:20261101T080000
END:STANDARD
END:VTIMEZONE
BEGIN:VEVENT
DTSTART;TZID=America/Edmonton:20251025T140000
DTEND;TZID=America/Edmonton:20251025T150000
DTSTAMP:20260422T233048
CREATED:20251009T225524Z
LAST-MODIFIED:20251009T225524Z
UID:534-1761400800-1761404400@baileybookman.com
SUMMARY:Author Event with Cordelia Kelly
DESCRIPTION:On Oct 25 at 2:00\, join our beloved local author\, Cordelia Kelly\, for a reading of the third installment in her Port of Lost Souls series\, The Seabourne Legacy. This haunted house adventure is the perfect book for spooky season!\nCordelia will also be bringing more of her viral fantasy maps\, so if you’ve been hoping to grab one\, now’s your chance!\n\nCopies of all of Kelly’s books with be available for purchase and signing at this event. We can’t wait to see you!
URL:https://baileybookman.com/event/author-event-with-cordelia-kelly/
LOCATION:Bailey Books\, 29 B Rowland Crescent\, St. Albert\, AB - Alberta\, T8N 4B2\, Canada
ORGANIZER;CN="Lisa Bailey":MAILTO:baileybooks17@gmail.com
END:VEVENT
END:VCALENDAR